BEGIN:VCALENDAR
VERSION:2.0
PRODID:-//OnYourMarks Timing - ECPv6.15.20//NONSGML v1.0//EN
CALSCALE:GREGORIAN
METHOD:PUBLISH
X-WR-CALNAME:OnYourMarks Timing
X-ORIGINAL-URL:https://onyourmarkstiming.com
X-WR-CALDESC:Events for OnYourMarks Timing
REFRESH-INTERVAL;VALUE=DURATION:PT1H
X-Robots-Tag:noindex
X-PUBLISHED-TTL:PT1H
BEGIN:VTIMEZONE
TZID:America/Chicago
BEGIN:DAYLIGHT
TZOFFSETFROM:-0600
TZOFFSETTO:-0500
TZNAME:CDT
DTSTART:20250309T080000
END:DAYLIGHT
BEGIN:STANDARD
TZOFFSETFROM:-0500
TZOFFSETTO:-0600
TZNAME:CST
DTSTART:20251102T070000
END:STANDARD
BEGIN:DAYLIGHT
TZOFFSETFROM:-0600
TZOFFSETTO:-0500
TZNAME:CDT
DTSTART:20260308T080000
END:DAYLIGHT
BEGIN:STANDARD
TZOFFSETFROM:-0500
TZOFFSETTO:-0600
TZNAME:CST
DTSTART:20261101T070000
END:STANDARD
BEGIN:DAYLIGHT
TZOFFSETFROM:-0600
TZOFFSETTO:-0500
TZNAME:CDT
DTSTART:20270314T080000
END:DAYLIGHT
BEGIN:STANDARD
TZOFFSETFROM:-0500
TZOFFSETTO:-0600
TZNAME:CST
DTSTART:20271107T070000
END:STANDARD
END:VTIMEZONE
BEGIN:VEVENT
DTSTART;VALUE=DATE:20260423
DTEND;VALUE=DATE:20260424
DTSTAMP:20260422T192731
CREATED:20251018T182724Z
LAST-MODIFIED:20251030T122604Z
UID:2895-1776902400-1776988799@onyourmarkstiming.com
SUMMARY:Dan Baker Invitational
DESCRIPTION:
URL:https://onyourmarkstiming.com/event/dan-baker-invitational/
LOCATION:De Pere High School\, 1700 Chicago St\, De Pere\, 54115\, United States
CATEGORIES:Track & Field
ATTACH;FMTTYPE=image/webp:https://onyourmarkstiming.com/wp-content/uploads/2025/10/DePere_Logo.webp
END:VEVENT
BEGIN:VEVENT
DTSTART;VALUE=DATE:20260424
DTEND;VALUE=DATE:20260425
DTSTAMP:20260422T192731
CREATED:20251018T182724Z
LAST-MODIFIED:20251030T122500Z
UID:2896-1776988800-1777075199@onyourmarkstiming.com
SUMMARY:Brookfield Invite
DESCRIPTION:
URL:https://onyourmarkstiming.com/event/brookfield-invite/
LOCATION:Brookfield Academy\, Brookfield\, 53045\, United States
CATEGORIES:Track & Field
ATTACH;FMTTYPE=image/png:https://onyourmarkstiming.com/wp-content/uploads/2025/10/BrookfieldAcad_Logo.png
END:VEVENT
BEGIN:VEVENT
DTSTART;VALUE=DATE:20260425
DTEND;VALUE=DATE:20260426
DTSTAMP:20260422T192731
CREATED:20251018T182724Z
LAST-MODIFIED:20251030T122323Z
UID:2897-1777075200-1777161599@onyourmarkstiming.com
SUMMARY:Pulaski Invite
DESCRIPTION:
URL:https://onyourmarkstiming.com/event/pulaski-invite/
LOCATION:Pulaski High School\, 1040 S St Augustine St\, Pulaski\, 54162\, United States
CATEGORIES:Track & Field
ATTACH;FMTTYPE=image/jpeg:https://onyourmarkstiming.com/wp-content/uploads/2025/10/Pulaski_Logo.jpeg
END:VEVENT
BEGIN:VEVENT
DTSTART;VALUE=DATE:20260427
DTEND;VALUE=DATE:20260428
DTSTAMP:20260422T192731
CREATED:20251018T182725Z
LAST-MODIFIED:20251030T113353Z
UID:2898-1777248000-1777334399@onyourmarkstiming.com
SUMMARY:De Pere Triangular
DESCRIPTION:
URL:https://onyourmarkstiming.com/event/de-pere-triangular/
LOCATION:De Pere High School\, 1700 Chicago St\, De Pere\, 54115\, United States
CATEGORIES:Track & Field
ATTACH;FMTTYPE=image/webp:https://onyourmarkstiming.com/wp-content/uploads/2025/10/DePere_Logo.webp
END:VEVENT
BEGIN:VEVENT
DTSTART;TZID=America/Chicago:20260428T160000
DTEND;TZID=America/Chicago:20260428T190000
DTSTAMP:20260422T192731
CREATED:20260318T151133Z
LAST-MODIFIED:20260318T151233Z
UID:3094-1777392000-1777402800@onyourmarkstiming.com
SUMMARY:Westfield at Wautoma
DESCRIPTION:
URL:https://onyourmarkstiming.com/event/westfield-at-wautoma/
LOCATION:Wautoma High School\, 514 S Cambridge St\, Wautoma\, 54982\, United States
CATEGORIES:Track & Field
ATTACH;FMTTYPE=image/png:https://onyourmarkstiming.com/wp-content/uploads/2025/10/Westfield_Logo.png
END:VEVENT
BEGIN:VEVENT
DTSTART;TZID=America/Chicago:20260430T160000
DTEND;TZID=America/Chicago:20260430T190000
DTSTAMP:20260422T192731
CREATED:20251212T221154Z
LAST-MODIFIED:20251212T221154Z
UID:3075-1777564800-1777575600@onyourmarkstiming.com
SUMMARY:Menasha MS Meet
DESCRIPTION:
URL:https://onyourmarkstiming.com/event/menasha-ms-meet/
LOCATION:Nathan Calder Stadium\, 1065 Racine Rd\, Menasha\, 54952\, United States
CATEGORIES:Track & Field
ATTACH;FMTTYPE=image/jpeg:https://onyourmarkstiming.com/wp-content/uploads/2025/10/Menasha_Logo.jpg
END:VEVENT
BEGIN:VEVENT
DTSTART;VALUE=DATE:20260501
DTEND;VALUE=DATE:20260502
DTSTAMP:20260422T192731
CREATED:20251018T182725Z
LAST-MODIFIED:20251030T122006Z
UID:2900-1777593600-1777679999@onyourmarkstiming.com
SUMMARY:Wautoma Invite
DESCRIPTION:
URL:https://onyourmarkstiming.com/event/wautoma-invite/
LOCATION:Wautoma High School\, 514 S Cambridge St\, Wautoma\, 54982\, United States
CATEGORIES:Track & Field
ATTACH;FMTTYPE=image/png:https://onyourmarkstiming.com/wp-content/uploads/2025/10/Wautoma_Logo.png
END:VEVENT
BEGIN:VEVENT
DTSTART;TZID=America/Chicago:20260504T160000
DTEND;TZID=America/Chicago:20260504T190000
DTSTAMP:20260422T192731
CREATED:20260113T140421Z
LAST-MODIFIED:20260113T140421Z
UID:3082-1777910400-1777921200@onyourmarkstiming.com
SUMMARY:Winneconne MS Dual/Tri
DESCRIPTION:
URL:https://onyourmarkstiming.com/event/winneconne-ms-dual-tri/
LOCATION:Winneconne High School\, 100 Wolf Run\, Winneconne\, 54986\, United States
CATEGORIES:Track & Field
ATTACH;FMTTYPE=image/png:https://onyourmarkstiming.com/wp-content/uploads/2025/10/Winneconne_Logo.png
END:VEVENT
BEGIN:VEVENT
DTSTART;VALUE=DATE:20260505
DTEND;VALUE=DATE:20260506
DTSTAMP:20260422T192731
CREATED:20251018T182725Z
LAST-MODIFIED:20251030T121759Z
UID:2901-1777939200-1778025599@onyourmarkstiming.com
SUMMARY:Menasha Triangular
DESCRIPTION:
URL:https://onyourmarkstiming.com/event/menasha-triangular/
LOCATION:Nathan Calder Stadium\, 1065 Racine Rd\, Menasha\, 54952\, United States
CATEGORIES:Track & Field
ATTACH;FMTTYPE=image/jpeg:https://onyourmarkstiming.com/wp-content/uploads/2025/10/Menasha_Logo.jpg
END:VEVENT
BEGIN:VEVENT
DTSTART;TZID=America/Chicago:20260506T160000
DTEND;TZID=America/Chicago:20260506T190000
DTSTAMP:20260422T192731
CREATED:20251212T222424Z
LAST-MODIFIED:20251212T222424Z
UID:3077-1778083200-1778094000@onyourmarkstiming.com
SUMMARY:Menasha MS Meet
DESCRIPTION:
URL:https://onyourmarkstiming.com/event/menasha-ms-meet-2/
LOCATION:Nathan Calder Stadium\, 1065 Racine Rd\, Menasha\, 54952\, United States
CATEGORIES:Track & Field
ATTACH;FMTTYPE=image/jpeg:https://onyourmarkstiming.com/wp-content/uploads/2025/10/Menasha_Logo.jpg
END:VEVENT
BEGIN:VEVENT
DTSTART;VALUE=DATE:20260507
DTEND;VALUE=DATE:20260508
DTSTAMP:20260422T192731
CREATED:20251018T182725Z
LAST-MODIFIED:20251030T121534Z
UID:2902-1778112000-1778198399@onyourmarkstiming.com
SUMMARY:Vic-Tree Invitational
DESCRIPTION:
URL:https://onyourmarkstiming.com/event/vic-tree-invitational/
LOCATION:Waupaca High School\, E2325 King Rd\, Waupaca\, 54981\, United States
CATEGORIES:Track & Field
ATTACH;FMTTYPE=image/webp:https://onyourmarkstiming.com/wp-content/uploads/2025/10/Waupaca_Logo.webp
END:VEVENT
BEGIN:VEVENT
DTSTART;VALUE=DATE:20260508
DTEND;VALUE=DATE:20260509
DTSTAMP:20260422T192731
CREATED:20251018T182740Z
LAST-MODIFIED:20251030T121409Z
UID:2903-1778198400-1778284799@onyourmarkstiming.com
SUMMARY:Vander Pan Invitational
DESCRIPTION:
URL:https://onyourmarkstiming.com/event/vander-pan-invitational/
LOCATION:Sheboygan Falls High School\, 220 Amherst Ave\, Sheboygan Falls\, 53085\, United States
CATEGORIES:Track & Field
ATTACH;FMTTYPE=image/png:https://onyourmarkstiming.com/wp-content/uploads/2025/10/SheboyganFalls_Logo-e1761825098834.png
END:VEVENT
BEGIN:VEVENT
DTSTART;VALUE=DATE:20260509
DTEND;VALUE=DATE:20260510
DTSTAMP:20260422T192731
CREATED:20251018T183208Z
LAST-MODIFIED:20251030T123534Z
UID:2914-1778284800-1778371199@onyourmarkstiming.com
SUMMARY:MS State Meet Qualifier
DESCRIPTION:
URL:https://onyourmarkstiming.com/event/ms-state-meet-qualifier/
LOCATION:Winneconne High School\, 100 Wolf Run\, Winneconne\, 54986\, United States
CATEGORIES:Track & Field
ATTACH;FMTTYPE=image/png:https://onyourmarkstiming.com/wp-content/uploads/2025/10/Winneconne_Logo.png
END:VEVENT
BEGIN:VEVENT
DTSTART;VALUE=DATE:20260511
DTEND;VALUE=DATE:20260512
DTSTAMP:20260422T192731
CREATED:20251018T182740Z
LAST-MODIFIED:20251030T114459Z
UID:2904-1778457600-1778543999@onyourmarkstiming.com
SUMMARY:Bay Port JV Meet
DESCRIPTION:
URL:https://onyourmarkstiming.com/event/bay-port-jv-meet/
LOCATION:Bay Port High School\, 2710 Lineville Rd\, Green Bay\, 54313\, United States
CATEGORIES:Track & Field
ATTACH;FMTTYPE=image/webp:https://onyourmarkstiming.com/wp-content/uploads/2025/10/BayPortMascot.webp
END:VEVENT
BEGIN:VEVENT
DTSTART;VALUE=DATE:20260512
DTEND;VALUE=DATE:20260513
DTSTAMP:20260422T192731
CREATED:20251018T182740Z
LAST-MODIFIED:20251030T115151Z
UID:2905-1778544000-1778630399@onyourmarkstiming.com
SUMMARY:Sheboygan Falls Quad
DESCRIPTION:
URL:https://onyourmarkstiming.com/event/sheboygan-falls-quad/
LOCATION:Sheboygan Falls High School\, 220 Amherst Ave\, Sheboygan Falls\, 53085\, United States
CATEGORIES:Track & Field
ATTACH;FMTTYPE=image/png:https://onyourmarkstiming.com/wp-content/uploads/2025/10/SheboyganFalls_Logo-e1761825098834.png
END:VEVENT
BEGIN:VEVENT
DTSTART;VALUE=DATE:20260518
DTEND;VALUE=DATE:20260519
DTSTAMP:20260422T192731
CREATED:20251018T182741Z
LAST-MODIFIED:20251030T120700Z
UID:2907-1779062400-1779148799@onyourmarkstiming.com
SUMMARY:New Holstein
DESCRIPTION:
URL:https://onyourmarkstiming.com/event/new-holstein/
LOCATION:New Holstein High School\, 1715 Plymouth St\, New Holstein\, 53061\, United States
CATEGORIES:Track & Field
ATTACH;FMTTYPE=image/jpeg:https://onyourmarkstiming.com/wp-content/uploads/2025/10/NewHolstein_Logo.jpg
END:VEVENT
BEGIN:VEVENT
DTSTART;VALUE=DATE:20260519
DTEND;VALUE=DATE:20260520
DTSTAMP:20260422T192731
CREATED:20251018T182755Z
LAST-MODIFIED:20251018T182755Z
UID:2908-1779148800-1779235199@onyourmarkstiming.com
SUMMARY:Bay Conference JV Meet
DESCRIPTION:
URL:https://onyourmarkstiming.com/event/bay-conference-jv-meet/
LOCATION:Winneconne High School\, 100 Wolf Run\, Winneconne\, 54986\, United States
CATEGORIES:Track & Field
END:VEVENT
BEGIN:VEVENT
DTSTART;VALUE=DATE:20260521
DTEND;VALUE=DATE:20260522
DTSTAMP:20260422T192731
CREATED:20251018T182755Z
LAST-MODIFIED:20251018T204130Z
UID:2909-1779321600-1779407999@onyourmarkstiming.com
SUMMARY:East Wisconsin Conference JV Meet
DESCRIPTION:
URL:https://onyourmarkstiming.com/event/east-wisconsin-conference-jv-meet/
LOCATION:Sheboygan Falls High School\, 220 Amherst Ave\, Sheboygan Falls\, 53085\, United States
CATEGORIES:Track & Field
ATTACH;FMTTYPE=image/jpeg:https://onyourmarkstiming.com/wp-content/uploads/2025/10/EWCLogo.jpg
END:VEVENT
BEGIN:VEVENT
DTSTART;VALUE=DATE:20260523
DTEND;VALUE=DATE:20260524
DTSTAMP:20260422T192731
CREATED:20251018T182755Z
LAST-MODIFIED:20260127T163034Z
UID:2910-1779494400-1779580799@onyourmarkstiming.com
SUMMARY:Wisconsin State Home School Meet
DESCRIPTION:
URL:https://onyourmarkstiming.com/event/wisconsin-state-home-school-meet/
CATEGORIES:Track & Field
ATTACH;FMTTYPE=image/png:https://onyourmarkstiming.com/wp-content/uploads/2025/10/WCHSA_Logo.png
END:VEVENT
BEGIN:VEVENT
DTSTART;VALUE=DATE:20260526
DTEND;VALUE=DATE:20260527
DTSTAMP:20260422T192731
CREATED:20251018T182755Z
LAST-MODIFIED:20251018T204752Z
UID:2911-1779753600-1779839999@onyourmarkstiming.com
SUMMARY:WIAA Regional - Kiel
DESCRIPTION:
URL:https://onyourmarkstiming.com/event/wiaa-regional-kiel/
LOCATION:Kiel High School\, 210 Raider Heights\, Kiel\, 53042\, United States
CATEGORIES:Track & Field
ATTACH;FMTTYPE=image/png:https://onyourmarkstiming.com/wp-content/uploads/2025/10/WIAALogo.png
END:VEVENT
BEGIN:VEVENT
DTSTART;TZID=America/Chicago:20260530T081500
DTEND;TZID=America/Chicago:20260530T091500
DTSTAMP:20260422T192731
CREATED:20251212T215742Z
LAST-MODIFIED:20251212T215742Z
UID:3071-1780128900-1780132500@onyourmarkstiming.com
SUMMARY:Eagles Wings 5K Run/Walk
DESCRIPTION:
URL:https://onyourmarkstiming.com/event/eagles-wings-5k-run-walk/
LOCATION:Brillion High School\, W1101 Country Rd HR\, Brillion\, WI\, 54110\, United States
CATEGORIES:Road Race
ATTACH;FMTTYPE=image/png:https://onyourmarkstiming.com/wp-content/uploads/2025/12/EaglesWings5K.png
END:VEVENT
BEGIN:VEVENT
DTSTART;TZID=America/Chicago:20260627T050000
DTEND;TZID=America/Chicago:20260628T050000
DTSTAMP:20260422T192731
CREATED:20251030T145607Z
LAST-MODIFIED:20251213T131742Z
UID:3053-1782536400-1782622800@onyourmarkstiming.com
SUMMARY:Dawn to Dusk Endurance Run
DESCRIPTION:Five different endurance running events (6 hr\, 8 hr\, 15.5 hr\, 8.5 hr (overnight) and 24 hour) on a 4.5 mile loop at Camp Sinawa in Valders\, WI. \nRace Signup
URL:https://onyourmarkstiming.com/event/dawn-to-dusk-endurance-run/
LOCATION:Camp Sinawa\, 9113 Sinawa Rd\, Valders\, WI\, 54245\, United States
ATTACH;FMTTYPE=image/jpeg:https://onyourmarkstiming.com/wp-content/uploads/2025/10/DawnToDusk_Skeletons-e1761836153789.jpg
END:VEVENT
BEGIN:VEVENT
DTSTART;VALUE=DATE:20260704
DTEND;VALUE=DATE:20260705
DTSTAMP:20260422T192731
CREATED:20251018T205126Z
LAST-MODIFIED:20251030T115456Z
UID:2921-1783123200-1783209599@onyourmarkstiming.com
SUMMARY:Leopolis Triathlon
DESCRIPTION:
URL:https://onyourmarkstiming.com/event/leopolis-triathlon/
LOCATION:Leopolis Pond\, Leopolis\, United States
CATEGORIES:Road Race
ATTACH;FMTTYPE=image/jpeg:https://onyourmarkstiming.com/wp-content/uploads/2025/10/LeopolisTri_Logo.jpg
END:VEVENT
BEGIN:VEVENT
DTSTART;VALUE=DATE:20260718
DTEND;VALUE=DATE:20260719
DTSTAMP:20260422T192731
CREATED:20251019T021954Z
LAST-MODIFIED:20251030T115325Z
UID:2981-1784332800-1784419199@onyourmarkstiming.com
SUMMARY:Sovereign State 5K
DESCRIPTION:
URL:https://onyourmarkstiming.com/event/sovereign-state-5k/
LOCATION:Winneconne High School\, 100 Wolf Run\, Winneconne\, 54986\, United States
CATEGORIES:Road Race
ATTACH;FMTTYPE=image/png:https://onyourmarkstiming.com/wp-content/uploads/2025/10/SSD_Logo.png
END:VEVENT
BEGIN:VEVENT
DTSTART;VALUE=DATE:20260827
DTEND;VALUE=DATE:20260828
DTSTAMP:20260422T192731
CREATED:20251019T020735Z
LAST-MODIFIED:20251030T115015Z
UID:2971-1787788800-1787875199@onyourmarkstiming.com
SUMMARY:Early Season Meet
DESCRIPTION:
URL:https://onyourmarkstiming.com/event/early-season-meet-2/
LOCATION:Sheboygan Falls High School\, 220 Amherst Ave\, Sheboygan Falls\, 53085\, United States
CATEGORIES:Cross Country
ATTACH;FMTTYPE=image/png:https://onyourmarkstiming.com/wp-content/uploads/2025/10/SheboyganFalls_Logo-e1761825098834.png
END:VEVENT
BEGIN:VEVENT
DTSTART;VALUE=DATE:20260831
DTEND;VALUE=DATE:20260901
DTSTAMP:20260422T192731
CREATED:20251019T020921Z
LAST-MODIFIED:20251030T114812Z
UID:2973-1788134400-1788220799@onyourmarkstiming.com
SUMMARY:Iola-Scandinania T-Bird Invitational
DESCRIPTION:
URL:https://onyourmarkstiming.com/event/iola-scandinania-t-bird-invitational/
LOCATION:Iola Winter Sports Club\, E398 County Rd MM\, Iola\, WI\, 54945\, United States
CATEGORIES:Cross Country
ATTACH;FMTTYPE=image/jpeg:https://onyourmarkstiming.com/wp-content/uploads/2025/10/IolaScan_Logo.jpeg
END:VEVENT
BEGIN:VEVENT
DTSTART;VALUE=DATE:20260903
DTEND;VALUE=DATE:20260904
DTSTAMP:20260422T192731
CREATED:20251019T021022Z
LAST-MODIFIED:20251030T113235Z
UID:2975-1788393600-1788479999@onyourmarkstiming.com
SUMMARY:De Pere Invitational
DESCRIPTION:
URL:https://onyourmarkstiming.com/event/de-pere-invitational-2/
LOCATION:Shorewood Cross Country Course\, 2532 Shorewood Dr\, Green Bay\, WI\, 54311\, United States
CATEGORIES:Cross Country
ATTACH;FMTTYPE=image/webp:https://onyourmarkstiming.com/wp-content/uploads/2025/10/DePere_Logo.webp
END:VEVENT
BEGIN:VEVENT
DTSTART;VALUE=DATE:20260908
DTEND;VALUE=DATE:20260909
DTSTAMP:20260422T192731
CREATED:20251019T021126Z
LAST-MODIFIED:20251030T112950Z
UID:2977-1788825600-1788911999@onyourmarkstiming.com
SUMMARY:WLA Viking Invite
DESCRIPTION:
URL:https://onyourmarkstiming.com/event/wla-viking-invite-2/
LOCATION:Kiekhaefer Park\, W4235 Kiekhaefer Pkwy\, Fond du Lac\, WI\, 54937\, United States
CATEGORIES:Cross Country
ATTACH;FMTTYPE=image/jpeg:https://onyourmarkstiming.com/wp-content/uploads/2025/10/WLA_Logo.jpeg
END:VEVENT
BEGIN:VEVENT
DTSTART;VALUE=DATE:20260919
DTEND;VALUE=DATE:20260920
DTSTAMP:20260422T192731
CREATED:20251019T021226Z
LAST-MODIFIED:20251030T112913Z
UID:2979-1789776000-1789862399@onyourmarkstiming.com
SUMMARY:Hilltopper Invitational
DESCRIPTION:
URL:https://onyourmarkstiming.com/event/hilltopper-invitational-2/
CATEGORIES:Cross Country
ATTACH;FMTTYPE=image/jpeg:https://onyourmarkstiming.com/wp-content/uploads/2025/10/StLawrenceSem_Logo.jpg
END:VEVENT
BEGIN:VEVENT
DTSTART;TZID=America/Chicago:20261003T090000
DTEND;TZID=America/Chicago:20261003T160000
DTSTAMP:20260422T192731
CREATED:20251126T163334Z
LAST-MODIFIED:20251126T164250Z
UID:3064-1791018000-1791043200@onyourmarkstiming.com
SUMMARY:Green Bay Southwest - Trojan Time Trials Meet
DESCRIPTION:Meet Information \n 
URL:https://onyourmarkstiming.com/event/green-bay-southwest-cross-country-time-trials-meet/
LOCATION:Shorewood Cross Country Course\, 2532 Shorewood Dr\, Green Bay\, WI\, 54311\, United States
CATEGORIES:Cross Country
ATTACH;FMTTYPE=image/jpeg:https://onyourmarkstiming.com/wp-content/uploads/2025/11/GreenBaySouthwest-e1764174633819.jpg
END:VEVENT
END:VCALENDAR